BEGIN:VCALENDAR
VERSION:2.0
PRODID:-//Kirchengemeinde Sechshelden - ECPv6.15.20//NONSGML v1.0//EN
CALSCALE:GREGORIAN
METHOD:PUBLISH
X-WR-CALNAME:Kirchengemeinde Sechshelden
X-ORIGINAL-URL:https://www.kirchengemeinde-sechshelden.de
X-WR-CALDESC:Veranstaltungen für Kirchengemeinde Sechshelden
REFRESH-INTERVAL;VALUE=DURATION:PT1H
X-Robots-Tag:noindex
X-PUBLISHED-TTL:PT1H
BEGIN:VTIMEZONE
TZID:Europe/Berlin
BEGIN:DAYLIGHT
TZOFFSETFROM:+0100
TZOFFSETTO:+0200
TZNAME:CEST
DTSTART:20240331T010000
END:DAYLIGHT
BEGIN:STANDARD
TZOFFSETFROM:+0200
TZOFFSETTO:+0100
TZNAME:CET
DTSTART:20241027T010000
END:STANDARD
BEGIN:DAYLIGHT
TZOFFSETFROM:+0100
TZOFFSETTO:+0200
TZNAME:CEST
DTSTART:20250330T010000
END:DAYLIGHT
BEGIN:STANDARD
TZOFFSETFROM:+0200
TZOFFSETTO:+0100
TZNAME:CET
DTSTART:20251026T010000
END:STANDARD
BEGIN:DAYLIGHT
TZOFFSETFROM:+0100
TZOFFSETTO:+0200
TZNAME:CEST
DTSTART:20260329T010000
END:DAYLIGHT
BEGIN:STANDARD
TZOFFSETFROM:+0200
TZOFFSETTO:+0100
TZNAME:CET
DTSTART:20261025T010000
END:STANDARD
END:VTIMEZONE
BEGIN:VEVENT
DTSTART;TZID=Europe/Berlin:20250621T143000
DTEND;TZID=Europe/Berlin:20250621T170000
DTSTAMP:20260424T115608
CREATED:20250526T090631Z
LAST-MODIFIED:20250526T090631Z
UID:3605-1750516200-1750525200@www.kirchengemeinde-sechshelden.de
SUMMARY:Cafe Zeit
DESCRIPTION:
URL:https://www.kirchengemeinde-sechshelden.de/termin/cafe-zeit/
ATTACH;FMTTYPE=image/png:https://www.kirchengemeinde-sechshelden.de/wp-content/uploads/2025/05/Screenshot-2025-05-26-110552.png
END:VEVENT
END:VCALENDAR