BEGIN:VCALENDAR
VERSION:2.0
PRODID:-//Kirchengemeinde Sechshelden - ECPv6.15.20//NONSGML v1.0//EN
CALSCALE:GREGORIAN
METHOD:PUBLISH
X-ORIGINAL-URL:https://www.kirchengemeinde-sechshelden.de
X-WR-CALDESC:Veranstaltungen für Kirchengemeinde Sechshelden
REFRESH-INTERVAL;VALUE=DURATION:PT1H
X-Robots-Tag:noindex
X-PUBLISHED-TTL:PT1H
BEGIN:VTIMEZONE
TZID:Europe/Berlin
BEGIN:DAYLIGHT
TZOFFSETFROM:+0100
TZOFFSETTO:+0200
TZNAME:CEST
DTSTART:20240331T010000
END:DAYLIGHT
BEGIN:STANDARD
TZOFFSETFROM:+0200
TZOFFSETTO:+0100
TZNAME:CET
DTSTART:20241027T010000
END:STANDARD
BEGIN:DAYLIGHT
TZOFFSETFROM:+0100
TZOFFSETTO:+0200
TZNAME:CEST
DTSTART:20250330T010000
END:DAYLIGHT
BEGIN:STANDARD
TZOFFSETFROM:+0200
TZOFFSETTO:+0100
TZNAME:CET
DTSTART:20251026T010000
END:STANDARD
BEGIN:DAYLIGHT
TZOFFSETFROM:+0100
TZOFFSETTO:+0200
TZNAME:CEST
DTSTART:20260329T010000
END:DAYLIGHT
BEGIN:STANDARD
TZOFFSETFROM:+0200
TZOFFSETTO:+0100
TZNAME:CET
DTSTART:20261025T010000
END:STANDARD
END:VTIMEZONE
BEGIN:VEVENT
DTSTART;TZID=Europe/Berlin:20250808T150000
DTEND;TZID=Europe/Berlin:20250808T170000
DTSTAMP:20260422T161901
CREATED:20250430T082848Z
LAST-MODIFIED:20250430T082848Z
UID:3548-1754665200-1754672400@www.kirchengemeinde-sechshelden.de
SUMMARY:Balltopia
DESCRIPTION:• Freitag 08. August\,\n• 15:00h bis 17:00h\n• Treffpunkt: Sporthalle \nBitte Getränke mitbringen\nAlternativprogramm bei schlechtem\nWetter (Infos über WhatsApp)
URL:https://www.kirchengemeinde-sechshelden.de/termin/balltopia/
ATTACH;FMTTYPE=image/png:https://www.kirchengemeinde-sechshelden.de/wp-content/uploads/2025/04/ball.png
END:VEVENT
END:VCALENDAR