BEGIN:VCALENDAR
VERSION:2.0
PRODID:-//Kirchengemeinde Sechshelden - ECPv6.15.20//NONSGML v1.0//EN
CALSCALE:GREGORIAN
METHOD:PUBLISH
X-ORIGINAL-URL:https://www.kirchengemeinde-sechshelden.de
X-WR-CALDESC:Veranstaltungen für Kirchengemeinde Sechshelden
REFRESH-INTERVAL;VALUE=DURATION:PT1H
X-Robots-Tag:noindex
X-PUBLISHED-TTL:PT1H
BEGIN:VTIMEZONE
TZID:Europe/Berlin
BEGIN:DAYLIGHT
TZOFFSETFROM:+0100
TZOFFSETTO:+0200
TZNAME:CEST
DTSTART:20240331T010000
END:DAYLIGHT
BEGIN:STANDARD
TZOFFSETFROM:+0200
TZOFFSETTO:+0100
TZNAME:CET
DTSTART:20241027T010000
END:STANDARD
BEGIN:DAYLIGHT
TZOFFSETFROM:+0100
TZOFFSETTO:+0200
TZNAME:CEST
DTSTART:20250330T010000
END:DAYLIGHT
BEGIN:STANDARD
TZOFFSETFROM:+0200
TZOFFSETTO:+0100
TZNAME:CET
DTSTART:20251026T010000
END:STANDARD
BEGIN:DAYLIGHT
TZOFFSETFROM:+0100
TZOFFSETTO:+0200
TZNAME:CEST
DTSTART:20260329T010000
END:DAYLIGHT
BEGIN:STANDARD
TZOFFSETFROM:+0200
TZOFFSETTO:+0100
TZNAME:CET
DTSTART:20261025T010000
END:STANDARD
END:VTIMEZONE
BEGIN:VEVENT
DTSTART;TZID=Europe/Berlin:20250817T140000
DTEND;TZID=Europe/Berlin:20250817T150000
DTSTAMP:20260422T161831
CREATED:20250526T092005Z
LAST-MODIFIED:20250526T092005Z
UID:3635-1755439200-1755442800@www.kirchengemeinde-sechshelden.de
SUMMARY:Gottesdiensttermine Sechshelden > in Dillenburg
DESCRIPTION:Stadtkirche in Dillenburg\nVerabschiedung Pfarrer Dr. Ackva
URL:https://www.kirchengemeinde-sechshelden.de/termin/gottesdiensttermine-sechshelden-in-dillenburg/
END:VEVENT
END:VCALENDAR