BEGIN:VCALENDAR
VERSION:2.0
PRODID:-//Kirchengemeinde Sechshelden - ECPv6.15.20//NONSGML v1.0//EN
CALSCALE:GREGORIAN
METHOD:PUBLISH
X-ORIGINAL-URL:https://www.kirchengemeinde-sechshelden.de
X-WR-CALDESC:Veranstaltungen für Kirchengemeinde Sechshelden
REFRESH-INTERVAL;VALUE=DURATION:PT1H
X-Robots-Tag:noindex
X-PUBLISHED-TTL:PT1H
BEGIN:VTIMEZONE
TZID:Europe/Berlin
BEGIN:DAYLIGHT
TZOFFSETFROM:+0100
TZOFFSETTO:+0200
TZNAME:CEST
DTSTART:20240331T010000
END:DAYLIGHT
BEGIN:STANDARD
TZOFFSETFROM:+0200
TZOFFSETTO:+0100
TZNAME:CET
DTSTART:20241027T010000
END:STANDARD
BEGIN:DAYLIGHT
TZOFFSETFROM:+0100
TZOFFSETTO:+0200
TZNAME:CEST
DTSTART:20250330T010000
END:DAYLIGHT
BEGIN:STANDARD
TZOFFSETFROM:+0200
TZOFFSETTO:+0100
TZNAME:CET
DTSTART:20251026T010000
END:STANDARD
BEGIN:DAYLIGHT
TZOFFSETFROM:+0100
TZOFFSETTO:+0200
TZNAME:CEST
DTSTART:20260329T010000
END:DAYLIGHT
BEGIN:STANDARD
TZOFFSETFROM:+0200
TZOFFSETTO:+0100
TZNAME:CET
DTSTART:20261025T010000
END:STANDARD
END:VTIMEZONE
BEGIN:VEVENT
DTSTART;TZID=Europe/Berlin:20250301T190000
DTEND;TZID=Europe/Berlin:20250301T230000
DTSTAMP:20260422T174230
CREATED:20250123T143618Z
LAST-MODIFIED:20250123T143618Z
UID:3406-1740855600-1740870000@www.kirchengemeinde-sechshelden.de
SUMMARY:Spiele Abend
DESCRIPTION:Im Gemeindehaus hinter der Kirche ( Sechshelden )
URL:https://www.kirchengemeinde-sechshelden.de/termin/spiele-abend-2/
END:VEVENT
BEGIN:VEVENT
DTSTART;TZID=Europe/Berlin:20250302T093000
DTEND;TZID=Europe/Berlin:20250302T103000
DTSTAMP:20260422T174230
CREATED:20250123T142344Z
LAST-MODIFIED:20250123T142344Z
UID:3392-1740907800-1740911400@www.kirchengemeinde-sechshelden.de
SUMMARY:Gottesdiensttermine Sechshelden
DESCRIPTION:Pfarrer i.R.\nHartmut Hühnerbein
URL:https://www.kirchengemeinde-sechshelden.de/termin/gottesdiensttermine-sechshelden-65/
END:VEVENT
BEGIN:VEVENT
DTSTART;TZID=Europe/Berlin:20250307T190000
DTEND;TZID=Europe/Berlin:20250307T210000
DTSTAMP:20260422T174230
CREATED:20250123T143808Z
LAST-MODIFIED:20250123T143808Z
UID:3409-1741374000-1741381200@www.kirchengemeinde-sechshelden.de
SUMMARY:Frauen aller Konfessionen laden ein Weltgebetstag
DESCRIPTION:
URL:https://www.kirchengemeinde-sechshelden.de/termin/frauen-aller-konfessionen-laden-ein-weltgebetstag/
END:VEVENT
BEGIN:VEVENT
DTSTART;TZID=Europe/Berlin:20250309T093000
DTEND;TZID=Europe/Berlin:20250309T103000
DTSTAMP:20260422T174230
CREATED:20250123T142423Z
LAST-MODIFIED:20250123T142423Z
UID:3394-1741512600-1741516200@www.kirchengemeinde-sechshelden.de
SUMMARY:Gottesdiensttermine Sechshelden
DESCRIPTION:Pfarrer\nDr. Ackva \nAbendmahl
URL:https://www.kirchengemeinde-sechshelden.de/termin/gottesdiensttermine-sechshelden-66/
END:VEVENT
BEGIN:VEVENT
DTSTART;TZID=Europe/Berlin:20250315T103000
DTEND;TZID=Europe/Berlin:20250315T123000
DTSTAMP:20260422T174230
CREATED:20241022T112137Z
LAST-MODIFIED:20241022T112237Z
UID:3284-1742034600-1742041800@www.kirchengemeinde-sechshelden.de
SUMMARY:Kinderkleiderbasar Frühjahr 2025
DESCRIPTION:Schwangere ab 10:00 Uhr \nIm DGH Sechshelden
URL:https://www.kirchengemeinde-sechshelden.de/termin/kinderkleiderbasar-fruehjahr-2025/
ATTACH;FMTTYPE=image/jpeg:https://www.kirchengemeinde-sechshelden.de/wp-content/uploads/2024/10/BasarMaerz2025-e1729596136649.jpg
END:VEVENT
BEGIN:VEVENT
DTSTART;TZID=Europe/Berlin:20250316T093000
DTEND;TZID=Europe/Berlin:20250316T103000
DTSTAMP:20260422T174230
CREATED:20250123T142453Z
LAST-MODIFIED:20250123T142453Z
UID:3396-1742117400-1742121000@www.kirchengemeinde-sechshelden.de
SUMMARY:Gottesdiensttermine Sechshelden
DESCRIPTION:Pfarrer i.R.\nUwe Hermann
URL:https://www.kirchengemeinde-sechshelden.de/termin/gottesdiensttermine-sechshelden-67/
END:VEVENT
BEGIN:VEVENT
DTSTART;TZID=Europe/Berlin:20250322T140000
DTEND;TZID=Europe/Berlin:20250322T150000
DTSTAMP:20260422T174230
CREATED:20250123T143944Z
LAST-MODIFIED:20250123T143944Z
UID:3412-1742652000-1742655600@www.kirchengemeinde-sechshelden.de
SUMMARY:Seniorenfeier der Stadt Haiger für alle Sechsheldener (ab70) im DGH
DESCRIPTION:
URL:https://www.kirchengemeinde-sechshelden.de/termin/seniorenfeier-der-stadt-haiger-fuer-alle-sechsheldener-ab70-im-dgh/
END:VEVENT
BEGIN:VEVENT
DTSTART;TZID=Europe/Berlin:20250323T100000
DTEND;TZID=Europe/Berlin:20250323T110000
DTSTAMP:20260422T174230
CREATED:20250123T142545Z
LAST-MODIFIED:20250123T142545Z
UID:3398-1742724000-1742727600@www.kirchengemeinde-sechshelden.de
SUMMARY:Gottesdiensttermine Sechshelden
DESCRIPTION:Nachbarschaftsraum-\nGottesdienst mit\nanschließender\nGemeindeversammlung \nStadtkirche Dillenburg
URL:https://www.kirchengemeinde-sechshelden.de/termin/gottesdiensttermine-sechshelden-68/
END:VEVENT
BEGIN:VEVENT
DTSTART;TZID=Europe/Berlin:20250324T110000
DTEND;TZID=Europe/Berlin:20250324T120000
DTSTAMP:20260422T174230
CREATED:20250324T135531Z
LAST-MODIFIED:20250324T135531Z
UID:3504-1742814000-1742817600@www.kirchengemeinde-sechshelden.de
SUMMARY:Gottesdiensttermine Sechshelden
DESCRIPTION:Pfarrer Dr. Friedhelm\nAckva
URL:https://www.kirchengemeinde-sechshelden.de/termin/gottesdiensttermine-sechshelden-80/
END:VEVENT
BEGIN:VEVENT
DTSTART;TZID=Europe/Berlin:20250330T093000
DTEND;TZID=Europe/Berlin:20250330T103000
DTSTAMP:20260422T174230
CREATED:20250123T142614Z
LAST-MODIFIED:20250123T142614Z
UID:3400-1743327000-1743330600@www.kirchengemeinde-sechshelden.de
SUMMARY:Gottesdiensttermine Sechshelden
DESCRIPTION:Prädikant\nThomas Kretz
URL:https://www.kirchengemeinde-sechshelden.de/termin/gottesdiensttermine-sechshelden-69/
END:VEVENT
END:VCALENDAR