BEGIN:VCALENDAR
VERSION:2.0
PRODID:-//Kirchengemeinde Sechshelden - ECPv6.15.20//NONSGML v1.0//EN
CALSCALE:GREGORIAN
METHOD:PUBLISH
X-ORIGINAL-URL:https://www.kirchengemeinde-sechshelden.de
X-WR-CALDESC:Veranstaltungen für Kirchengemeinde Sechshelden
REFRESH-INTERVAL;VALUE=DURATION:PT1H
X-Robots-Tag:noindex
X-PUBLISHED-TTL:PT1H
BEGIN:VTIMEZONE
TZID:Europe/Berlin
BEGIN:DAYLIGHT
TZOFFSETFROM:+0100
TZOFFSETTO:+0200
TZNAME:CEST
DTSTART:20240331T010000
END:DAYLIGHT
BEGIN:STANDARD
TZOFFSETFROM:+0200
TZOFFSETTO:+0100
TZNAME:CET
DTSTART:20241027T010000
END:STANDARD
BEGIN:DAYLIGHT
TZOFFSETFROM:+0100
TZOFFSETTO:+0200
TZNAME:CEST
DTSTART:20250330T010000
END:DAYLIGHT
BEGIN:STANDARD
TZOFFSETFROM:+0200
TZOFFSETTO:+0100
TZNAME:CET
DTSTART:20251026T010000
END:STANDARD
BEGIN:DAYLIGHT
TZOFFSETFROM:+0100
TZOFFSETTO:+0200
TZNAME:CEST
DTSTART:20260329T010000
END:DAYLIGHT
BEGIN:STANDARD
TZOFFSETFROM:+0200
TZOFFSETTO:+0100
TZNAME:CET
DTSTART:20261025T010000
END:STANDARD
END:VTIMEZONE
BEGIN:VEVENT
DTSTART;TZID=Europe/Berlin:20250601T093000
DTEND;TZID=Europe/Berlin:20250601T103000
DTSTAMP:20260422T133332
CREATED:20250526T091321Z
LAST-MODIFIED:20250526T091321Z
UID:3613-1748770200-1748773800@www.kirchengemeinde-sechshelden.de
SUMMARY:Gottesdiensttermine Sechshelden
DESCRIPTION:
URL:https://www.kirchengemeinde-sechshelden.de/termin/gottesdiensttermine-sechshelden-81/
END:VEVENT
BEGIN:VEVENT
DTSTART;TZID=Europe/Berlin:20250602T200000
DTEND;TZID=Europe/Berlin:20250602T220000
DTSTAMP:20260422T133332
CREATED:20250526T090214Z
LAST-MODIFIED:20250526T090214Z
UID:3593-1748894400-1748901600@www.kirchengemeinde-sechshelden.de
SUMMARY:Plan G
DESCRIPTION:
URL:https://www.kirchengemeinde-sechshelden.de/termin/plan-g-2/
ATTACH;FMTTYPE=image/png:https://www.kirchengemeinde-sechshelden.de/wp-content/uploads/2025/05/Plan-G-.png
END:VEVENT
BEGIN:VEVENT
DTSTART;TZID=Europe/Berlin:20250608T093000
DTEND;TZID=Europe/Berlin:20250608T103000
DTSTAMP:20260422T133332
CREATED:20250526T091355Z
LAST-MODIFIED:20250526T091355Z
UID:3615-1749375000-1749378600@www.kirchengemeinde-sechshelden.de
SUMMARY:Gottesdiensttermine Sechshelden
DESCRIPTION:Pfarrer i.R.\nUwe Hermann \nAbendmahl
URL:https://www.kirchengemeinde-sechshelden.de/termin/gottesdiensttermine-sechshelden-82/
END:VEVENT
BEGIN:VEVENT
DTSTART;TZID=Europe/Berlin:20250615T093000
DTEND;TZID=Europe/Berlin:20250615T103000
DTSTAMP:20260422T133332
CREATED:20250526T091427Z
LAST-MODIFIED:20250526T091427Z
UID:3617-1749979800-1749983400@www.kirchengemeinde-sechshelden.de
SUMMARY:Gottesdiensttermine Sechshelden
DESCRIPTION:Pfarrer\nRalf Arnd Blecker \nGoldene Konfirmation
URL:https://www.kirchengemeinde-sechshelden.de/termin/gottesdiensttermine-sechshelden-83/
END:VEVENT
BEGIN:VEVENT
DTSTART;TZID=Europe/Berlin:20250621T143000
DTEND;TZID=Europe/Berlin:20250621T170000
DTSTAMP:20260422T133332
CREATED:20250526T090631Z
LAST-MODIFIED:20250526T090631Z
UID:3605-1750516200-1750525200@www.kirchengemeinde-sechshelden.de
SUMMARY:Cafe Zeit
DESCRIPTION:
URL:https://www.kirchengemeinde-sechshelden.de/termin/cafe-zeit/
ATTACH;FMTTYPE=image/png:https://www.kirchengemeinde-sechshelden.de/wp-content/uploads/2025/05/Screenshot-2025-05-26-110552.png
END:VEVENT
BEGIN:VEVENT
DTSTART;TZID=Europe/Berlin:20250622T093000
DTEND;TZID=Europe/Berlin:20250622T103000
DTSTAMP:20260422T133332
CREATED:20250526T091458Z
LAST-MODIFIED:20250526T091458Z
UID:3619-1750584600-1750588200@www.kirchengemeinde-sechshelden.de
SUMMARY:Gottesdiensttermine Sechshelden
DESCRIPTION:Pfarrer i.R.\nHartmut Hühnerbein
URL:https://www.kirchengemeinde-sechshelden.de/termin/gottesdiensttermine-sechshelden-84/
END:VEVENT
BEGIN:VEVENT
DTSTART;TZID=Europe/Berlin:20250629T100000
DTEND;TZID=Europe/Berlin:20250629T110000
DTSTAMP:20260422T133332
CREATED:20250526T091537Z
LAST-MODIFIED:20250526T091537Z
UID:3621-1751191200-1751194800@www.kirchengemeinde-sechshelden.de
SUMMARY:Gottesdiensttermine Sechshelden
DESCRIPTION:Verschiedene\nPfarrpersonen \nGemeinsam gewähltes Projekt\nder Vorbereitungsgruppe \nFestgottesdienst: 150 Jahre Jubiläum Wilhelmsturm\nauf der Freilichtbühne Schlossberg
URL:https://www.kirchengemeinde-sechshelden.de/termin/gottesdiensttermine-sechshelden-85/
END:VEVENT
BEGIN:VEVENT
DTSTART;TZID=Europe/Berlin:20250630T200000
DTEND;TZID=Europe/Berlin:20250630T220000
DTSTAMP:20260422T133332
CREATED:20250526T090532Z
LAST-MODIFIED:20250526T090532Z
UID:3603-1751313600-1751320800@www.kirchengemeinde-sechshelden.de
SUMMARY:Plan G
DESCRIPTION:
URL:https://www.kirchengemeinde-sechshelden.de/termin/plan-g-6/
ATTACH;FMTTYPE=image/png:https://www.kirchengemeinde-sechshelden.de/wp-content/uploads/2025/05/Plan-G-.png
END:VEVENT
END:VCALENDAR