BEGIN:VCALENDAR
VERSION:2.0
PRODID:-//Kirchengemeinde Sechshelden - ECPv6.15.20//NONSGML v1.0//EN
CALSCALE:GREGORIAN
METHOD:PUBLISH
X-ORIGINAL-URL:https://www.kirchengemeinde-sechshelden.de
X-WR-CALDESC:Veranstaltungen für Kirchengemeinde Sechshelden
REFRESH-INTERVAL;VALUE=DURATION:PT1H
X-Robots-Tag:noindex
X-PUBLISHED-TTL:PT1H
BEGIN:VTIMEZONE
TZID:Europe/Berlin
BEGIN:DAYLIGHT
TZOFFSETFROM:+0100
TZOFFSETTO:+0200
TZNAME:CEST
DTSTART:20240331T010000
END:DAYLIGHT
BEGIN:STANDARD
TZOFFSETFROM:+0200
TZOFFSETTO:+0100
TZNAME:CET
DTSTART:20241027T010000
END:STANDARD
BEGIN:DAYLIGHT
TZOFFSETFROM:+0100
TZOFFSETTO:+0200
TZNAME:CEST
DTSTART:20250330T010000
END:DAYLIGHT
BEGIN:STANDARD
TZOFFSETFROM:+0200
TZOFFSETTO:+0100
TZNAME:CET
DTSTART:20251026T010000
END:STANDARD
BEGIN:DAYLIGHT
TZOFFSETFROM:+0100
TZOFFSETTO:+0200
TZNAME:CEST
DTSTART:20260329T010000
END:DAYLIGHT
BEGIN:STANDARD
TZOFFSETFROM:+0200
TZOFFSETTO:+0100
TZNAME:CET
DTSTART:20261025T010000
END:STANDARD
END:VTIMEZONE
BEGIN:VEVENT
DTSTART;TZID=Europe/Berlin:20250801T150000
DTEND;TZID=Europe/Berlin:20250801T170000
DTSTAMP:20260422T150315
CREATED:20250430T082741Z
LAST-MODIFIED:20250430T082741Z
UID:3545-1754060400-1754067600@www.kirchengemeinde-sechshelden.de
SUMMARY:Krass nass
DESCRIPTION:• Freitag 01. August\,\n• 15:00h bis 17:00h\n• Treffpunkt:\nGemeindehaus\n• Bitte bringt Bade-/ Wechselkleidung mit\nBitte Getränke mitbringen\nAlternativprogramm bei schlechtem\nWetter (Infos über WhatsApp)
URL:https://www.kirchengemeinde-sechshelden.de/termin/krass-nass/
ATTACH;FMTTYPE=image/png:https://www.kirchengemeinde-sechshelden.de/wp-content/uploads/2025/04/krass.png
END:VEVENT
BEGIN:VEVENT
DTSTART;TZID=Europe/Berlin:20250803T093000
DTEND;TZID=Europe/Berlin:20250803T103000
DTSTAMP:20260422T150315
CREATED:20250526T091830Z
LAST-MODIFIED:20250526T091830Z
UID:3631-1754213400-1754217000@www.kirchengemeinde-sechshelden.de
SUMMARY:Gottesdiensttermine Sechshelden
DESCRIPTION:Pfarrer\nRalf Arnd Blecker \nAbendmahl
URL:https://www.kirchengemeinde-sechshelden.de/termin/gottesdiensttermine-sechshelden-90/
END:VEVENT
BEGIN:VEVENT
DTSTART;TZID=Europe/Berlin:20250808T150000
DTEND;TZID=Europe/Berlin:20250808T170000
DTSTAMP:20260422T150315
CREATED:20250430T082848Z
LAST-MODIFIED:20250430T082848Z
UID:3548-1754665200-1754672400@www.kirchengemeinde-sechshelden.de
SUMMARY:Balltopia
DESCRIPTION:• Freitag 08. August\,\n• 15:00h bis 17:00h\n• Treffpunkt: Sporthalle \nBitte Getränke mitbringen\nAlternativprogramm bei schlechtem\nWetter (Infos über WhatsApp)
URL:https://www.kirchengemeinde-sechshelden.de/termin/balltopia/
ATTACH;FMTTYPE=image/png:https://www.kirchengemeinde-sechshelden.de/wp-content/uploads/2025/04/ball.png
END:VEVENT
BEGIN:VEVENT
DTSTART;TZID=Europe/Berlin:20250810T093000
DTEND;TZID=Europe/Berlin:20250810T103000
DTSTAMP:20260422T150315
CREATED:20250526T091901Z
LAST-MODIFIED:20250526T091901Z
UID:3633-1754818200-1754821800@www.kirchengemeinde-sechshelden.de
SUMMARY:Gottesdiensttermine Sechshelden
DESCRIPTION:Prädikant\nFrank Heimann
URL:https://www.kirchengemeinde-sechshelden.de/termin/gottesdiensttermine-sechshelden-91/
END:VEVENT
BEGIN:VEVENT
DTSTART;TZID=Europe/Berlin:20250815T163000
DTEND;TZID=Europe/Berlin:20250816T100000
DTSTAMP:20260422T150315
CREATED:20250430T083051Z
LAST-MODIFIED:20250430T083138Z
UID:3551-1755275400-1755338400@www.kirchengemeinde-sechshelden.de
SUMMARY:in zwei Tagen um die Welt (mit Übernachtung)
DESCRIPTION:Freitag 15. August\,\n• Fr. 16:30h bis Sa. 10:00h\n• Treffpunkt: Gemeindehaus\n• Übernachtung/Zelten\n• Anmeldung erforderlich \nBitte Getränke mitbringen\nAlternativprogramm bei schlechtem\nWetter (Infos über WhatsApp)
URL:https://www.kirchengemeinde-sechshelden.de/termin/in-zwei-tagen-um-die-welt-mit-uebernachtung/
ATTACH;FMTTYPE=image/png:https://www.kirchengemeinde-sechshelden.de/wp-content/uploads/2025/04/nacht.png
END:VEVENT
BEGIN:VEVENT
DTSTART;TZID=Europe/Berlin:20250817T140000
DTEND;TZID=Europe/Berlin:20250817T150000
DTSTAMP:20260422T150315
CREATED:20250526T092005Z
LAST-MODIFIED:20250526T092005Z
UID:3635-1755439200-1755442800@www.kirchengemeinde-sechshelden.de
SUMMARY:Gottesdiensttermine Sechshelden > in Dillenburg
DESCRIPTION:Stadtkirche in Dillenburg\nVerabschiedung Pfarrer Dr. Ackva
URL:https://www.kirchengemeinde-sechshelden.de/termin/gottesdiensttermine-sechshelden-in-dillenburg/
END:VEVENT
BEGIN:VEVENT
DTSTART;TZID=Europe/Berlin:20250823T180000
DTEND;TZID=Europe/Berlin:20250823T220000
DTSTAMP:20260422T150315
CREATED:20250526T083426Z
LAST-MODIFIED:20250526T083426Z
UID:3581-1755972000-1755986400@www.kirchengemeinde-sechshelden.de
SUMMARY:Picknick am Kreuz
DESCRIPTION:
URL:https://www.kirchengemeinde-sechshelden.de/termin/picknick-am-kreuz/
ATTACH;FMTTYPE=image/png:https://www.kirchengemeinde-sechshelden.de/wp-content/uploads/2025/05/Screenshot-2025-05-26-103359.png
END:VEVENT
BEGIN:VEVENT
DTSTART;TZID=Europe/Berlin:20250824T100000
DTEND;TZID=Europe/Berlin:20250824T110000
DTSTAMP:20260422T150315
CREATED:20250526T092048Z
LAST-MODIFIED:20250526T092048Z
UID:3637-1756029600-1756033200@www.kirchengemeinde-sechshelden.de
SUMMARY:Gottesdienst Paradeplatz Haiger
DESCRIPTION:
URL:https://www.kirchengemeinde-sechshelden.de/termin/gottesdienst-paradeplatz-haiger/
END:VEVENT
BEGIN:VEVENT
DTSTART;TZID=Europe/Berlin:20250825T093000
DTEND;TZID=Europe/Berlin:20250825T103000
DTSTAMP:20260422T150315
CREATED:20250825T080311Z
LAST-MODIFIED:20250825T080311Z
UID:3783-1756114200-1756117800@www.kirchengemeinde-sechshelden.de
SUMMARY:Gottesdienst
DESCRIPTION:Pfarrer i.R. Uwe Hermann
URL:https://www.kirchengemeinde-sechshelden.de/termin/gottesdienst-7/
END:VEVENT
BEGIN:VEVENT
DTSTART;VALUE=DATE:20250830
DTEND;VALUE=DATE:20250831
DTSTAMP:20260422T150315
CREATED:20250526T083659Z
LAST-MODIFIED:20250526T083659Z
UID:3584-1756512000-1756598399@www.kirchengemeinde-sechshelden.de
SUMMARY:Kunterbunt Basar für Kinderkleidung und Spielsachen in Sechshelden
DESCRIPTION:
URL:https://www.kirchengemeinde-sechshelden.de/termin/kunterbunt-basar-fuer-kinderkleidung-und-spielsachen-in-sechshelden/
ATTACH;FMTTYPE=image/png:https://www.kirchengemeinde-sechshelden.de/wp-content/uploads/2025/05/Screenshot-2025-05-26-103615.png
END:VEVENT
BEGIN:VEVENT
DTSTART;TZID=Europe/Berlin:20250830T143000
DTEND;TZID=Europe/Berlin:20250830T170000
DTSTAMP:20260422T150315
CREATED:20250526T090657Z
LAST-MODIFIED:20250526T090657Z
UID:3608-1756564200-1756573200@www.kirchengemeinde-sechshelden.de
SUMMARY:Cafe Zeit
DESCRIPTION:
URL:https://www.kirchengemeinde-sechshelden.de/termin/cafe-zeit-2/
ATTACH;FMTTYPE=image/png:https://www.kirchengemeinde-sechshelden.de/wp-content/uploads/2025/05/Screenshot-2025-05-26-110552.png
END:VEVENT
BEGIN:VEVENT
DTSTART;TZID=Europe/Berlin:20250831T093000
DTEND;TZID=Europe/Berlin:20250831T103000
DTSTAMP:20260422T150315
CREATED:20250526T092116Z
LAST-MODIFIED:20250526T092116Z
UID:3639-1756632600-1756636200@www.kirchengemeinde-sechshelden.de
SUMMARY:Gottesdiensttermine Sechshelden
DESCRIPTION:Prädikant\nGebhard Häußer
URL:https://www.kirchengemeinde-sechshelden.de/termin/gottesdiensttermine-sechshelden-92/
END:VEVENT
END:VCALENDAR